BEGIN:VCALENDAR
VERSION:2.0
PRODID:-//The Ridge Marketplace - ECPv6.15.20//NONSGML v1.0//EN
CALSCALE:GREGORIAN
METHOD:PUBLISH
X-ORIGINAL-URL:https://shopsattheridge.com
X-WR-CALDESC:Events for The Ridge Marketplace
REFRESH-INTERVAL;VALUE=DURATION:PT1H
X-Robots-Tag:noindex
X-PUBLISHED-TTL:PT1H
BEGIN:VTIMEZONE
TZID:UTC
BEGIN:STANDARD
TZOFFSETFROM:+0000
TZOFFSETTO:+0000
TZNAME:UTC
DTSTART:20240101T000000
END:STANDARD
END:VTIMEZONE
BEGIN:VEVENT
DTSTART;TZID=UTC:20250503T150000
DTEND;TZID=UTC:20250503T180000
DTSTAMP:20260421T140727
CREATED:20250409T184425Z
LAST-MODIFIED:20250429T132901Z
UID:10000878-1746284400-1746295200@shopsattheridge.com
SUMMARY:Cinco De Mayo Celebration
DESCRIPTION:Celebrate Cinco de Mayo in Kerrville at The Ridge Marketplace!Join us on Saturday\, May 3rd from 3–6 PM for a family-friendly Cinco de Mayo celebration in the heart of the Texas Hill Country. Enjoy Tejano music by DJ Pat\, delicious Mexican food\, festive piñatas\, crafts\, Lotería\, mini cake walk\, and a lively grito contest. \nBring the whole family out for an afternoon of fun\, food\, and fiesta!
URL:https://shopsattheridge.com/event/cinco-de-mayo-celebration/
LOCATION:Ridge Rock Amphitheater\, 13439 S. Ranch Road 783\, Kerrville\, 78028\, United States
ATTACH;FMTTYPE=image/jpeg:https://shopsattheridge.com/wp-content/uploads/2025/04/Cinco-De-Mayo-Celebration.jpg
END:VEVENT
BEGIN:VEVENT
DTSTART;TZID=UTC:20250503T180000
DTEND;TZID=UTC:20250503T210000
DTSTAMP:20260421T140727
CREATED:20250410T153700Z
LAST-MODIFIED:20250410T153700Z
UID:10000880-1746295200-1746306000@shopsattheridge.com
SUMMARY:Live Music with Sally Cowan!
DESCRIPTION:Join us for an evening of unforgettable live music in the heart of the Texas Hill Country with the talented Sally Cowan! Known for her soulful voice and heartfelt performances\, Sally brings a blend of classic country\, blues\, and Americana that’s perfect for a relaxing night out. \nWhether you’re grabbing dinner with friends or winding down after a long week\, her smooth vocals and acoustic style create the perfect Hill Country vibe.
URL:https://shopsattheridge.com/event/live-music-with-sally-cowan/
LOCATION:Cafe at the Ridge\, 13439 S. Ranch Road 783\, Kerrville\, TX\, 78028\, United States
ATTACH;FMTTYPE=image/jpeg:https://shopsattheridge.com/wp-content/uploads/2025/04/Sally-Cowan.jpg
END:VEVENT
END:VCALENDAR