BEGIN:VCALENDAR
VERSION:2.0
PRODID:-//The Ridge Marketplace - ECPv6.15.20//NONSGML v1.0//EN
CALSCALE:GREGORIAN
METHOD:PUBLISH
X-WR-CALNAME:The Ridge Marketplace
X-ORIGINAL-URL:https://shopsattheridge.com
X-WR-CALDESC:Events for The Ridge Marketplace
REFRESH-INTERVAL;VALUE=DURATION:PT1H
X-Robots-Tag:noindex
X-PUBLISHED-TTL:PT1H
BEGIN:VTIMEZONE
TZID:UTC
BEGIN:STANDARD
TZOFFSETFROM:+0000
TZOFFSETTO:+0000
TZNAME:UTC
DTSTART:20240101T000000
END:STANDARD
END:VTIMEZONE
BEGIN:VEVENT
DTSTART;TZID=UTC:20250517T110000
DTEND;TZID=UTC:20250517T150000
DTSTAMP:20260421T164505
CREATED:20250311T142421Z
LAST-MODIFIED:20250409T191806Z
UID:10000762-1747479600-1747494000@shopsattheridge.com
SUMMARY:World Migratory Bird Day
DESCRIPTION:Celebrate World Migratory Bird Day at The Ridge Marketplace – May 17th at 11 AM!Join us for a fun and educational day as we celebrate World Migratory Bird Day on Saturday\, May 17th at The Ridge Marketplace in Kerrville\, TX! Starting at 11 AM\, this family-friendly birding event will feature exciting activities\, engaging presentations\, and opportunities to learn all about our feathered friends and their incredible journeys. \nWhether you’re a seasoned bird watcher or just curious about local wildlife\, this is the perfect way to spend the day outdoors and connect with nature.
URL:https://shopsattheridge.com/event/world-migratory-bird-day/
LOCATION:Ridge Rock Amphitheater\, 13439 S. Ranch Road 783\, Kerrville\, 78028\, United States
ATTACH;FMTTYPE=image/jpeg:https://shopsattheridge.com/wp-content/uploads/2025/03/World-Migratory-Bird-Day-1.jpg
END:VEVENT
END:VCALENDAR