BEGIN:VCALENDAR
VERSION:2.0
PRODID:-//The Ridge Marketplace - ECPv6.15.20//NONSGML v1.0//EN
CALSCALE:GREGORIAN
METHOD:PUBLISH
X-ORIGINAL-URL:https://shopsattheridge.com
X-WR-CALDESC:Events for The Ridge Marketplace
REFRESH-INTERVAL;VALUE=DURATION:PT1H
X-Robots-Tag:noindex
X-PUBLISHED-TTL:PT1H
BEGIN:VTIMEZONE
TZID:UTC
BEGIN:STANDARD
TZOFFSETFROM:+0000
TZOFFSETTO:+0000
TZNAME:UTC
DTSTART:20240101T000000
END:STANDARD
END:VTIMEZONE
BEGIN:VEVENT
DTSTART;TZID=UTC:20250530T110000
DTEND;TZID=UTC:20250530T210000
DTSTAMP:20260421T180256
CREATED:20250113T155634Z
LAST-MODIFIED:20250212T151037Z
UID:10000660-1748602800-1748638800@shopsattheridge.com
SUMMARY:Catfish Friday
DESCRIPTION:Join us every Friday for a delightful Southern tradition! Savor our crispy\, golden-fried catfish served with all your favorite sides. It’s the perfect way to end the week. Bring your friends and family for a delicious meal and great company. We offer child servings for the kids in the family\, too! We can’t wait to see you!
URL:https://shopsattheridge.com/event/catfish-friday/2025-05-30/
LOCATION:Cafe at the Ridge\, 13439 S. Ranch Road 783\, Kerrville\, TX\, 78028\, United States
ATTACH;FMTTYPE=image/jpeg:https://shopsattheridge.com/wp-content/uploads/2025/01/Catfish-Friday-at-Cafe-at-the-Ridge.jpg
END:VEVENT
BEGIN:VEVENT
DTSTART;TZID=UTC:20250530T180000
DTEND;TZID=UTC:20250530T210000
DTSTAMP:20260421T180256
CREATED:20250226T182703Z
LAST-MODIFIED:20250318T185743Z
UID:10000771-1748628000-1748638800@shopsattheridge.com
SUMMARY:Live Music with Jim Turner!
DESCRIPTION:Come enjoy an enchanting evening with the talented Jim Turner\, performing live at Cafe at the Ridge! Jim’s smooth vocals and soulful guitar will set the perfect ambiance for your dining experience. While you’re immersed in his music\, indulge in our delectable menu offerings—from mouthwatering appetizers to hearty main courses and delightful desserts. It’s a night of great food and exceptional music\, making for an unforgettable outing with friends and family. \nDon’t miss out on this perfect blend of culinary delight and musical magic!
URL:https://shopsattheridge.com/event/live-music-with-jim-turner-3/2025-05-30/
LOCATION:Cafe at the Ridge\, 13439 S. Ranch Road 783\, Kerrville\, TX\, 78028\, United States
ATTACH;FMTTYPE=image/jpeg:https://shopsattheridge.com/wp-content/uploads/2025/02/Live-Music-Website-Template-10.jpg
END:VEVENT
END:VCALENDAR