BEGIN:VCALENDAR
VERSION:2.0
PRODID:-//The Ridge Marketplace - ECPv6.15.20//NONSGML v1.0//EN
CALSCALE:GREGORIAN
METHOD:PUBLISH
X-WR-CALNAME:The Ridge Marketplace
X-ORIGINAL-URL:https://shopsattheridge.com
X-WR-CALDESC:Events for The Ridge Marketplace
REFRESH-INTERVAL;VALUE=DURATION:PT1H
X-Robots-Tag:noindex
X-PUBLISHED-TTL:PT1H
BEGIN:VTIMEZONE
TZID:UTC
BEGIN:STANDARD
TZOFFSETFROM:+0000
TZOFFSETTO:+0000
TZNAME:UTC
DTSTART:20250101T000000
END:STANDARD
END:VTIMEZONE
BEGIN:VEVENT
DTSTART;TZID=UTC:20260523T170000
DTEND;TZID=UTC:20260523T200000
DTSTAMP:20260421T094853
CREATED:20260408T180042Z
LAST-MODIFIED:20260408T180042Z
UID:10001450-1779555600-1779566400@shopsattheridge.com
SUMMARY:Live Music with Chad Richard!
DESCRIPTION:Join us for a laid-back evening of live country music at Cafe at the Ridge in Kerrville\, Texas\, featuring talented local artist Chad Richard. Known for his easygoing style and classic country sound\, Chad brings a mix of familiar favorites and original songs that pair perfectly with a night out in the Texas Hill Country. \nGrab dinner\, enjoy a drink\, and settle in as the music kicks off in our welcoming\, family-friendly setting at The Ridge Marketplace. Whether you’re a longtime country fan or just looking for a great place to unwind with live music in Kerrville\, this is a night you won’t want to miss. \nCome early\, stay awhile\, and enjoy good food\, good company\, and great country music at Cafe at the Ridge.
URL:https://shopsattheridge.com/event/live-music-with-chad-richard/
LOCATION:Cafe at the Ridge\, 13439 S. Ranch Road 783\, Kerrville\, TX\, 78028\, United States
ATTACH;FMTTYPE=image/jpeg:https://shopsattheridge.com/wp-content/uploads/2026/04/Live-Music-with-Chad-Richard.jpg
END:VEVENT
END:VCALENDAR