BEGIN:VCALENDAR
VERSION:2.0
PRODID:-//The Ridge Marketplace - ECPv6.15.20//NONSGML v1.0//EN
CALSCALE:GREGORIAN
METHOD:PUBLISH
X-WR-CALNAME:The Ridge Marketplace
X-ORIGINAL-URL:https://shopsattheridge.com
X-WR-CALDESC:Events for The Ridge Marketplace
REFRESH-INTERVAL;VALUE=DURATION:PT1H
X-Robots-Tag:noindex
X-PUBLISHED-TTL:PT1H
BEGIN:VTIMEZONE
TZID:UTC
BEGIN:STANDARD
TZOFFSETFROM:+0000
TZOFFSETTO:+0000
TZNAME:UTC
DTSTART:20250101T000000
END:STANDARD
END:VTIMEZONE
BEGIN:VEVENT
DTSTART;TZID=UTC:20261211T110000
DTEND;TZID=UTC:20261211T210000
DTSTAMP:20260421T221809
CREATED:20251217T161728Z
LAST-MODIFIED:20251217T161729Z
UID:10001334-1796986800-1797022800@shopsattheridge.com
SUMMARY:Catfish Friday
DESCRIPTION:Join us every Friday for a delightful Southern tradition! Savor our crispy\, golden-fried catfish served with all your favorite sides. It’s the perfect way to end the week. Bring your friends and family for a delicious meal and great company. We offer child servings for the kids in the family\, too! We can’t wait to see you!
URL:https://shopsattheridge.com/event/catfish-friday-2/2026-12-11/
LOCATION:Cafe at the Ridge\, 13439 S. Ranch Road 783\, Kerrville\, TX\, 78028\, United States
ATTACH;FMTTYPE=image/jpeg:https://shopsattheridge.com/wp-content/uploads/2025/01/Catfish-Friday-at-Cafe-at-the-Ridge.jpg
END:VEVENT
END:VCALENDAR