BEGIN:VCALENDAR
VERSION:2.0
PRODID:-//The Ridge Marketplace - ECPv6.15.20//NONSGML v1.0//EN
CALSCALE:GREGORIAN
METHOD:PUBLISH
X-WR-CALNAME:The Ridge Marketplace
X-ORIGINAL-URL:https://shopsattheridge.com
X-WR-CALDESC:Events for The Ridge Marketplace
REFRESH-INTERVAL;VALUE=DURATION:PT1H
X-Robots-Tag:noindex
X-PUBLISHED-TTL:PT1H
BEGIN:VTIMEZONE
TZID:UTC
BEGIN:STANDARD
TZOFFSETFROM:+0000
TZOFFSETTO:+0000
TZNAME:UTC
DTSTART:20250101T000000
END:STANDARD
END:VTIMEZONE
BEGIN:VEVENT
DTSTART;TZID=UTC:20260424T170000
DTEND;TZID=UTC:20260424T200000
DTSTAMP:20260422T180323
CREATED:20251106T205639Z
LAST-MODIFIED:20260422T142829Z
UID:10001459-1777050000-1777060800@shopsattheridge.com
SUMMARY:Live Music with Brent Ryan!
DESCRIPTION:Enjoy an evening of captivating live music with Brent Ryan at Cafe at the Ridge! With his rich voice and engaging performances\, Brent will create an unforgettable atmosphere. While you soak in the soulful tunes\, indulge in our delightful menu offerings. From savory appetizers to hearty main courses and scrumptious desserts\, our food is crafted to complement the evening perfectly. \nDon’t miss out on this fantastic blend of exceptional music and delectable food! For more about Brent Ryan\, visit his website: brentryanmusic.com
URL:https://shopsattheridge.com/event/live-music-with-brent-ryan-3/2026-04-24/
LOCATION:Cafe at the Ridge\, 13439 S. Ranch Road 783\, Kerrville\, TX\, 78028\, United States
ATTACH;FMTTYPE=image/jpeg:https://shopsattheridge.com/wp-content/uploads/2025/11/Live-Music-with-Brent.jpg
END:VEVENT
END:VCALENDAR