BEGIN:VCALENDAR
VERSION:2.0
PRODID:-//The Ridge Marketplace - ECPv6.15.20//NONSGML v1.0//EN
CALSCALE:GREGORIAN
METHOD:PUBLISH
X-WR-CALNAME:The Ridge Marketplace
X-ORIGINAL-URL:https://shopsattheridge.com
X-WR-CALDESC:Events for The Ridge Marketplace
REFRESH-INTERVAL;VALUE=DURATION:PT1H
X-Robots-Tag:noindex
X-PUBLISHED-TTL:PT1H
BEGIN:VTIMEZONE
TZID:UTC
BEGIN:STANDARD
TZOFFSETFROM:+0000
TZOFFSETTO:+0000
TZNAME:UTC
DTSTART:20250101T000000
END:STANDARD
END:VTIMEZONE
BEGIN:VEVENT
DTSTART;VALUE=DATE:20260427
DTEND;VALUE=DATE:20260428
DTSTAMP:20260421T111042
CREATED:20241217T153058Z
LAST-MODIFIED:20250318T134321Z
UID:10000409-1777248000-1777334399@shopsattheridge.com
SUMMARY:Closed on Mondays!
DESCRIPTION:We are closed on Mondays! Be sure to come visit us tomorrow! Our regular business hours at The Ridge Marketplace are: \n\n\n\nCLOSED MONDAYS \n\n\n\n\n\n\nCafé – 830.896.0420:\nTuesday – Thursday: 11AM-8PM\nFriday & Saturday: 8AM-9PM\nSunday: 8AM-8PM \nBakery – 830.896.0427:\nTuesday – Thursday: 8AM-8PM\nFriday & Saturday: 8AM-9PM\nSunday: 8AM to 8PM \nThe Gardens & Gift Shop – 830.896.0430:\nTuesday – Sunday: 9 am to 5 pm
URL:https://shopsattheridge.com/event/closed-on-mondays/2026-04-27/
LOCATION:Cafe at the Ridge\, 13439 S. Ranch Road 783\, Kerrville\, TX\, 78028\, United States
ATTACH;FMTTYPE=image/jpeg:https://shopsattheridge.com/wp-content/uploads/2024/12/Closed-every-Monday-The-Ridge-Marketplace.jpg
END:VEVENT
BEGIN:VEVENT
DTSTART;VALUE=DATE:20260504
DTEND;VALUE=DATE:20260505
DTSTAMP:20260421T111042
CREATED:20241217T153058Z
LAST-MODIFIED:20250318T134321Z
UID:10000410-1777852800-1777939199@shopsattheridge.com
SUMMARY:Closed on Mondays!
DESCRIPTION:We are closed on Mondays! Be sure to come visit us tomorrow! Our regular business hours at The Ridge Marketplace are: \n\n\n\nCLOSED MONDAYS \n\n\n\n\n\n\nCafé – 830.896.0420:\nTuesday – Thursday: 11AM-8PM\nFriday & Saturday: 8AM-9PM\nSunday: 8AM-8PM \nBakery – 830.896.0427:\nTuesday – Thursday: 8AM-8PM\nFriday & Saturday: 8AM-9PM\nSunday: 8AM to 8PM \nThe Gardens & Gift Shop – 830.896.0430:\nTuesday – Sunday: 9 am to 5 pm
URL:https://shopsattheridge.com/event/closed-on-mondays/2026-05-04/
LOCATION:Cafe at the Ridge\, 13439 S. Ranch Road 783\, Kerrville\, TX\, 78028\, United States
ATTACH;FMTTYPE=image/jpeg:https://shopsattheridge.com/wp-content/uploads/2024/12/Closed-every-Monday-The-Ridge-Marketplace.jpg
END:VEVENT
BEGIN:VEVENT
DTSTART;VALUE=DATE:20260511
DTEND;VALUE=DATE:20260512
DTSTAMP:20260421T111042
CREATED:20241217T153058Z
LAST-MODIFIED:20250318T134321Z
UID:10000411-1778457600-1778543999@shopsattheridge.com
SUMMARY:Closed on Mondays!
DESCRIPTION:We are closed on Mondays! Be sure to come visit us tomorrow! Our regular business hours at The Ridge Marketplace are: \n\n\n\nCLOSED MONDAYS \n\n\n\n\n\n\nCafé – 830.896.0420:\nTuesday – Thursday: 11AM-8PM\nFriday & Saturday: 8AM-9PM\nSunday: 8AM-8PM \nBakery – 830.896.0427:\nTuesday – Thursday: 8AM-8PM\nFriday & Saturday: 8AM-9PM\nSunday: 8AM to 8PM \nThe Gardens & Gift Shop – 830.896.0430:\nTuesday – Sunday: 9 am to 5 pm
URL:https://shopsattheridge.com/event/closed-on-mondays/2026-05-11/
LOCATION:Cafe at the Ridge\, 13439 S. Ranch Road 783\, Kerrville\, TX\, 78028\, United States
ATTACH;FMTTYPE=image/jpeg:https://shopsattheridge.com/wp-content/uploads/2024/12/Closed-every-Monday-The-Ridge-Marketplace.jpg
END:VEVENT
BEGIN:VEVENT
DTSTART;VALUE=DATE:20260518
DTEND;VALUE=DATE:20260519
DTSTAMP:20260421T111042
CREATED:20241217T153058Z
LAST-MODIFIED:20250318T134321Z
UID:10000412-1779062400-1779148799@shopsattheridge.com
SUMMARY:Closed on Mondays!
DESCRIPTION:We are closed on Mondays! Be sure to come visit us tomorrow! Our regular business hours at The Ridge Marketplace are: \n\n\n\nCLOSED MONDAYS \n\n\n\n\n\n\nCafé – 830.896.0420:\nTuesday – Thursday: 11AM-8PM\nFriday & Saturday: 8AM-9PM\nSunday: 8AM-8PM \nBakery – 830.896.0427:\nTuesday – Thursday: 8AM-8PM\nFriday & Saturday: 8AM-9PM\nSunday: 8AM to 8PM \nThe Gardens & Gift Shop – 830.896.0430:\nTuesday – Sunday: 9 am to 5 pm
URL:https://shopsattheridge.com/event/closed-on-mondays/2026-05-18/
LOCATION:Cafe at the Ridge\, 13439 S. Ranch Road 783\, Kerrville\, TX\, 78028\, United States
ATTACH;FMTTYPE=image/jpeg:https://shopsattheridge.com/wp-content/uploads/2024/12/Closed-every-Monday-The-Ridge-Marketplace.jpg
END:VEVENT
BEGIN:VEVENT
DTSTART;VALUE=DATE:20260525
DTEND;VALUE=DATE:20260526
DTSTAMP:20260421T111042
CREATED:20241217T153058Z
LAST-MODIFIED:20250318T134321Z
UID:10000413-1779667200-1779753599@shopsattheridge.com
SUMMARY:Closed on Mondays!
DESCRIPTION:We are closed on Mondays! Be sure to come visit us tomorrow! Our regular business hours at The Ridge Marketplace are: \n\n\n\nCLOSED MONDAYS \n\n\n\n\n\n\nCafé – 830.896.0420:\nTuesday – Thursday: 11AM-8PM\nFriday & Saturday: 8AM-9PM\nSunday: 8AM-8PM \nBakery – 830.896.0427:\nTuesday – Thursday: 8AM-8PM\nFriday & Saturday: 8AM-9PM\nSunday: 8AM to 8PM \nThe Gardens & Gift Shop – 830.896.0430:\nTuesday – Sunday: 9 am to 5 pm
URL:https://shopsattheridge.com/event/closed-on-mondays/2026-05-25/
LOCATION:Cafe at the Ridge\, 13439 S. Ranch Road 783\, Kerrville\, TX\, 78028\, United States
ATTACH;FMTTYPE=image/jpeg:https://shopsattheridge.com/wp-content/uploads/2024/12/Closed-every-Monday-The-Ridge-Marketplace.jpg
END:VEVENT
BEGIN:VEVENT
DTSTART;VALUE=DATE:20260601
DTEND;VALUE=DATE:20260602
DTSTAMP:20260421T111042
CREATED:20241217T153058Z
LAST-MODIFIED:20250318T134321Z
UID:10000414-1780272000-1780358399@shopsattheridge.com
SUMMARY:Closed on Mondays!
DESCRIPTION:We are closed on Mondays! Be sure to come visit us tomorrow! Our regular business hours at The Ridge Marketplace are: \n\n\n\nCLOSED MONDAYS \n\n\n\n\n\n\nCafé – 830.896.0420:\nTuesday – Thursday: 11AM-8PM\nFriday & Saturday: 8AM-9PM\nSunday: 8AM-8PM \nBakery – 830.896.0427:\nTuesday – Thursday: 8AM-8PM\nFriday & Saturday: 8AM-9PM\nSunday: 8AM to 8PM \nThe Gardens & Gift Shop – 830.896.0430:\nTuesday – Sunday: 9 am to 5 pm
URL:https://shopsattheridge.com/event/closed-on-mondays/2026-06-01/
LOCATION:Cafe at the Ridge\, 13439 S. Ranch Road 783\, Kerrville\, TX\, 78028\, United States
ATTACH;FMTTYPE=image/jpeg:https://shopsattheridge.com/wp-content/uploads/2024/12/Closed-every-Monday-The-Ridge-Marketplace.jpg
END:VEVENT
BEGIN:VEVENT
DTSTART;VALUE=DATE:20260608
DTEND;VALUE=DATE:20260609
DTSTAMP:20260421T111042
CREATED:20241217T153058Z
LAST-MODIFIED:20250318T134321Z
UID:10000415-1780876800-1780963199@shopsattheridge.com
SUMMARY:Closed on Mondays!
DESCRIPTION:We are closed on Mondays! Be sure to come visit us tomorrow! Our regular business hours at The Ridge Marketplace are: \n\n\n\nCLOSED MONDAYS \n\n\n\n\n\n\nCafé – 830.896.0420:\nTuesday – Thursday: 11AM-8PM\nFriday & Saturday: 8AM-9PM\nSunday: 8AM-8PM \nBakery – 830.896.0427:\nTuesday – Thursday: 8AM-8PM\nFriday & Saturday: 8AM-9PM\nSunday: 8AM to 8PM \nThe Gardens & Gift Shop – 830.896.0430:\nTuesday – Sunday: 9 am to 5 pm
URL:https://shopsattheridge.com/event/closed-on-mondays/2026-06-08/
LOCATION:Cafe at the Ridge\, 13439 S. Ranch Road 783\, Kerrville\, TX\, 78028\, United States
ATTACH;FMTTYPE=image/jpeg:https://shopsattheridge.com/wp-content/uploads/2024/12/Closed-every-Monday-The-Ridge-Marketplace.jpg
END:VEVENT
BEGIN:VEVENT
DTSTART;VALUE=DATE:20260615
DTEND;VALUE=DATE:20260616
DTSTAMP:20260421T111042
CREATED:20241217T153058Z
LAST-MODIFIED:20250318T134321Z
UID:10000416-1781481600-1781567999@shopsattheridge.com
SUMMARY:Closed on Mondays!
DESCRIPTION:We are closed on Mondays! Be sure to come visit us tomorrow! Our regular business hours at The Ridge Marketplace are: \n\n\n\nCLOSED MONDAYS \n\n\n\n\n\n\nCafé – 830.896.0420:\nTuesday – Thursday: 11AM-8PM\nFriday & Saturday: 8AM-9PM\nSunday: 8AM-8PM \nBakery – 830.896.0427:\nTuesday – Thursday: 8AM-8PM\nFriday & Saturday: 8AM-9PM\nSunday: 8AM to 8PM \nThe Gardens & Gift Shop – 830.896.0430:\nTuesday – Sunday: 9 am to 5 pm
URL:https://shopsattheridge.com/event/closed-on-mondays/2026-06-15/
LOCATION:Cafe at the Ridge\, 13439 S. Ranch Road 783\, Kerrville\, TX\, 78028\, United States
ATTACH;FMTTYPE=image/jpeg:https://shopsattheridge.com/wp-content/uploads/2024/12/Closed-every-Monday-The-Ridge-Marketplace.jpg
END:VEVENT
BEGIN:VEVENT
DTSTART;VALUE=DATE:20260622
DTEND;VALUE=DATE:20260623
DTSTAMP:20260421T111042
CREATED:20241217T153058Z
LAST-MODIFIED:20250318T134321Z
UID:10000417-1782086400-1782172799@shopsattheridge.com
SUMMARY:Closed on Mondays!
DESCRIPTION:We are closed on Mondays! Be sure to come visit us tomorrow! Our regular business hours at The Ridge Marketplace are: \n\n\n\nCLOSED MONDAYS \n\n\n\n\n\n\nCafé – 830.896.0420:\nTuesday – Thursday: 11AM-8PM\nFriday & Saturday: 8AM-9PM\nSunday: 8AM-8PM \nBakery – 830.896.0427:\nTuesday – Thursday: 8AM-8PM\nFriday & Saturday: 8AM-9PM\nSunday: 8AM to 8PM \nThe Gardens & Gift Shop – 830.896.0430:\nTuesday – Sunday: 9 am to 5 pm
URL:https://shopsattheridge.com/event/closed-on-mondays/2026-06-22/
LOCATION:Cafe at the Ridge\, 13439 S. Ranch Road 783\, Kerrville\, TX\, 78028\, United States
ATTACH;FMTTYPE=image/jpeg:https://shopsattheridge.com/wp-content/uploads/2024/12/Closed-every-Monday-The-Ridge-Marketplace.jpg
END:VEVENT
BEGIN:VEVENT
DTSTART;VALUE=DATE:20260629
DTEND;VALUE=DATE:20260630
DTSTAMP:20260421T111042
CREATED:20241217T153058Z
LAST-MODIFIED:20250318T134321Z
UID:10000418-1782691200-1782777599@shopsattheridge.com
SUMMARY:Closed on Mondays!
DESCRIPTION:We are closed on Mondays! Be sure to come visit us tomorrow! Our regular business hours at The Ridge Marketplace are: \n\n\n\nCLOSED MONDAYS \n\n\n\n\n\n\nCafé – 830.896.0420:\nTuesday – Thursday: 11AM-8PM\nFriday & Saturday: 8AM-9PM\nSunday: 8AM-8PM \nBakery – 830.896.0427:\nTuesday – Thursday: 8AM-8PM\nFriday & Saturday: 8AM-9PM\nSunday: 8AM to 8PM \nThe Gardens & Gift Shop – 830.896.0430:\nTuesday – Sunday: 9 am to 5 pm
URL:https://shopsattheridge.com/event/closed-on-mondays/2026-06-29/
LOCATION:Cafe at the Ridge\, 13439 S. Ranch Road 783\, Kerrville\, TX\, 78028\, United States
ATTACH;FMTTYPE=image/jpeg:https://shopsattheridge.com/wp-content/uploads/2024/12/Closed-every-Monday-The-Ridge-Marketplace.jpg
END:VEVENT
BEGIN:VEVENT
DTSTART;VALUE=DATE:20260706
DTEND;VALUE=DATE:20260707
DTSTAMP:20260421T111042
CREATED:20241217T153058Z
LAST-MODIFIED:20250318T134321Z
UID:10000419-1783296000-1783382399@shopsattheridge.com
SUMMARY:Closed on Mondays!
DESCRIPTION:We are closed on Mondays! Be sure to come visit us tomorrow! Our regular business hours at The Ridge Marketplace are: \n\n\n\nCLOSED MONDAYS \n\n\n\n\n\n\nCafé – 830.896.0420:\nTuesday – Thursday: 11AM-8PM\nFriday & Saturday: 8AM-9PM\nSunday: 8AM-8PM \nBakery – 830.896.0427:\nTuesday – Thursday: 8AM-8PM\nFriday & Saturday: 8AM-9PM\nSunday: 8AM to 8PM \nThe Gardens & Gift Shop – 830.896.0430:\nTuesday – Sunday: 9 am to 5 pm
URL:https://shopsattheridge.com/event/closed-on-mondays/2026-07-06/
LOCATION:Cafe at the Ridge\, 13439 S. Ranch Road 783\, Kerrville\, TX\, 78028\, United States
ATTACH;FMTTYPE=image/jpeg:https://shopsattheridge.com/wp-content/uploads/2024/12/Closed-every-Monday-The-Ridge-Marketplace.jpg
END:VEVENT
BEGIN:VEVENT
DTSTART;VALUE=DATE:20260713
DTEND;VALUE=DATE:20260714
DTSTAMP:20260421T111042
CREATED:20241217T153058Z
LAST-MODIFIED:20250318T134321Z
UID:10000420-1783900800-1783987199@shopsattheridge.com
SUMMARY:Closed on Mondays!
DESCRIPTION:We are closed on Mondays! Be sure to come visit us tomorrow! Our regular business hours at The Ridge Marketplace are: \n\n\n\nCLOSED MONDAYS \n\n\n\n\n\n\nCafé – 830.896.0420:\nTuesday – Thursday: 11AM-8PM\nFriday & Saturday: 8AM-9PM\nSunday: 8AM-8PM \nBakery – 830.896.0427:\nTuesday – Thursday: 8AM-8PM\nFriday & Saturday: 8AM-9PM\nSunday: 8AM to 8PM \nThe Gardens & Gift Shop – 830.896.0430:\nTuesday – Sunday: 9 am to 5 pm
URL:https://shopsattheridge.com/event/closed-on-mondays/2026-07-13/
LOCATION:Cafe at the Ridge\, 13439 S. Ranch Road 783\, Kerrville\, TX\, 78028\, United States
ATTACH;FMTTYPE=image/jpeg:https://shopsattheridge.com/wp-content/uploads/2024/12/Closed-every-Monday-The-Ridge-Marketplace.jpg
END:VEVENT
BEGIN:VEVENT
DTSTART;VALUE=DATE:20260720
DTEND;VALUE=DATE:20260721
DTSTAMP:20260421T111042
CREATED:20241217T153058Z
LAST-MODIFIED:20250318T134321Z
UID:10000421-1784505600-1784591999@shopsattheridge.com
SUMMARY:Closed on Mondays!
DESCRIPTION:We are closed on Mondays! Be sure to come visit us tomorrow! Our regular business hours at The Ridge Marketplace are: \n\n\n\nCLOSED MONDAYS \n\n\n\n\n\n\nCafé – 830.896.0420:\nTuesday – Thursday: 11AM-8PM\nFriday & Saturday: 8AM-9PM\nSunday: 8AM-8PM \nBakery – 830.896.0427:\nTuesday – Thursday: 8AM-8PM\nFriday & Saturday: 8AM-9PM\nSunday: 8AM to 8PM \nThe Gardens & Gift Shop – 830.896.0430:\nTuesday – Sunday: 9 am to 5 pm
URL:https://shopsattheridge.com/event/closed-on-mondays/2026-07-20/
LOCATION:Cafe at the Ridge\, 13439 S. Ranch Road 783\, Kerrville\, TX\, 78028\, United States
ATTACH;FMTTYPE=image/jpeg:https://shopsattheridge.com/wp-content/uploads/2024/12/Closed-every-Monday-The-Ridge-Marketplace.jpg
END:VEVENT
BEGIN:VEVENT
DTSTART;VALUE=DATE:20260727
DTEND;VALUE=DATE:20260728
DTSTAMP:20260421T111042
CREATED:20241217T153058Z
LAST-MODIFIED:20250318T134321Z
UID:10000422-1785110400-1785196799@shopsattheridge.com
SUMMARY:Closed on Mondays!
DESCRIPTION:We are closed on Mondays! Be sure to come visit us tomorrow! Our regular business hours at The Ridge Marketplace are: \n\n\n\nCLOSED MONDAYS \n\n\n\n\n\n\nCafé – 830.896.0420:\nTuesday – Thursday: 11AM-8PM\nFriday & Saturday: 8AM-9PM\nSunday: 8AM-8PM \nBakery – 830.896.0427:\nTuesday – Thursday: 8AM-8PM\nFriday & Saturday: 8AM-9PM\nSunday: 8AM to 8PM \nThe Gardens & Gift Shop – 830.896.0430:\nTuesday – Sunday: 9 am to 5 pm
URL:https://shopsattheridge.com/event/closed-on-mondays/2026-07-27/
LOCATION:Cafe at the Ridge\, 13439 S. Ranch Road 783\, Kerrville\, TX\, 78028\, United States
ATTACH;FMTTYPE=image/jpeg:https://shopsattheridge.com/wp-content/uploads/2024/12/Closed-every-Monday-The-Ridge-Marketplace.jpg
END:VEVENT
BEGIN:VEVENT
DTSTART;VALUE=DATE:20260803
DTEND;VALUE=DATE:20260804
DTSTAMP:20260421T111042
CREATED:20241217T153058Z
LAST-MODIFIED:20250318T134321Z
UID:10000423-1785715200-1785801599@shopsattheridge.com
SUMMARY:Closed on Mondays!
DESCRIPTION:We are closed on Mondays! Be sure to come visit us tomorrow! Our regular business hours at The Ridge Marketplace are: \n\n\n\nCLOSED MONDAYS \n\n\n\n\n\n\nCafé – 830.896.0420:\nTuesday – Thursday: 11AM-8PM\nFriday & Saturday: 8AM-9PM\nSunday: 8AM-8PM \nBakery – 830.896.0427:\nTuesday – Thursday: 8AM-8PM\nFriday & Saturday: 8AM-9PM\nSunday: 8AM to 8PM \nThe Gardens & Gift Shop – 830.896.0430:\nTuesday – Sunday: 9 am to 5 pm
URL:https://shopsattheridge.com/event/closed-on-mondays/2026-08-03/
LOCATION:Cafe at the Ridge\, 13439 S. Ranch Road 783\, Kerrville\, TX\, 78028\, United States
ATTACH;FMTTYPE=image/jpeg:https://shopsattheridge.com/wp-content/uploads/2024/12/Closed-every-Monday-The-Ridge-Marketplace.jpg
END:VEVENT
BEGIN:VEVENT
DTSTART;VALUE=DATE:20260810
DTEND;VALUE=DATE:20260811
DTSTAMP:20260421T111042
CREATED:20241217T153058Z
LAST-MODIFIED:20250318T134321Z
UID:10000424-1786320000-1786406399@shopsattheridge.com
SUMMARY:Closed on Mondays!
DESCRIPTION:We are closed on Mondays! Be sure to come visit us tomorrow! Our regular business hours at The Ridge Marketplace are: \n\n\n\nCLOSED MONDAYS \n\n\n\n\n\n\nCafé – 830.896.0420:\nTuesday – Thursday: 11AM-8PM\nFriday & Saturday: 8AM-9PM\nSunday: 8AM-8PM \nBakery – 830.896.0427:\nTuesday – Thursday: 8AM-8PM\nFriday & Saturday: 8AM-9PM\nSunday: 8AM to 8PM \nThe Gardens & Gift Shop – 830.896.0430:\nTuesday – Sunday: 9 am to 5 pm
URL:https://shopsattheridge.com/event/closed-on-mondays/2026-08-10/
LOCATION:Cafe at the Ridge\, 13439 S. Ranch Road 783\, Kerrville\, TX\, 78028\, United States
ATTACH;FMTTYPE=image/jpeg:https://shopsattheridge.com/wp-content/uploads/2024/12/Closed-every-Monday-The-Ridge-Marketplace.jpg
END:VEVENT
BEGIN:VEVENT
DTSTART;VALUE=DATE:20260817
DTEND;VALUE=DATE:20260818
DTSTAMP:20260421T111042
CREATED:20241217T153058Z
LAST-MODIFIED:20250318T134321Z
UID:10000425-1786924800-1787011199@shopsattheridge.com
SUMMARY:Closed on Mondays!
DESCRIPTION:We are closed on Mondays! Be sure to come visit us tomorrow! Our regular business hours at The Ridge Marketplace are: \n\n\n\nCLOSED MONDAYS \n\n\n\n\n\n\nCafé – 830.896.0420:\nTuesday – Thursday: 11AM-8PM\nFriday & Saturday: 8AM-9PM\nSunday: 8AM-8PM \nBakery – 830.896.0427:\nTuesday – Thursday: 8AM-8PM\nFriday & Saturday: 8AM-9PM\nSunday: 8AM to 8PM \nThe Gardens & Gift Shop – 830.896.0430:\nTuesday – Sunday: 9 am to 5 pm
URL:https://shopsattheridge.com/event/closed-on-mondays/2026-08-17/
LOCATION:Cafe at the Ridge\, 13439 S. Ranch Road 783\, Kerrville\, TX\, 78028\, United States
ATTACH;FMTTYPE=image/jpeg:https://shopsattheridge.com/wp-content/uploads/2024/12/Closed-every-Monday-The-Ridge-Marketplace.jpg
END:VEVENT
BEGIN:VEVENT
DTSTART;VALUE=DATE:20260824
DTEND;VALUE=DATE:20260825
DTSTAMP:20260421T111042
CREATED:20241217T153058Z
LAST-MODIFIED:20250318T134321Z
UID:10000426-1787529600-1787615999@shopsattheridge.com
SUMMARY:Closed on Mondays!
DESCRIPTION:We are closed on Mondays! Be sure to come visit us tomorrow! Our regular business hours at The Ridge Marketplace are: \n\n\n\nCLOSED MONDAYS \n\n\n\n\n\n\nCafé – 830.896.0420:\nTuesday – Thursday: 11AM-8PM\nFriday & Saturday: 8AM-9PM\nSunday: 8AM-8PM \nBakery – 830.896.0427:\nTuesday – Thursday: 8AM-8PM\nFriday & Saturday: 8AM-9PM\nSunday: 8AM to 8PM \nThe Gardens & Gift Shop – 830.896.0430:\nTuesday – Sunday: 9 am to 5 pm
URL:https://shopsattheridge.com/event/closed-on-mondays/2026-08-24/
LOCATION:Cafe at the Ridge\, 13439 S. Ranch Road 783\, Kerrville\, TX\, 78028\, United States
ATTACH;FMTTYPE=image/jpeg:https://shopsattheridge.com/wp-content/uploads/2024/12/Closed-every-Monday-The-Ridge-Marketplace.jpg
END:VEVENT
BEGIN:VEVENT
DTSTART;VALUE=DATE:20260831
DTEND;VALUE=DATE:20260901
DTSTAMP:20260421T111042
CREATED:20241217T153058Z
LAST-MODIFIED:20250318T134321Z
UID:10000427-1788134400-1788220799@shopsattheridge.com
SUMMARY:Closed on Mondays!
DESCRIPTION:We are closed on Mondays! Be sure to come visit us tomorrow! Our regular business hours at The Ridge Marketplace are: \n\n\n\nCLOSED MONDAYS \n\n\n\n\n\n\nCafé – 830.896.0420:\nTuesday – Thursday: 11AM-8PM\nFriday & Saturday: 8AM-9PM\nSunday: 8AM-8PM \nBakery – 830.896.0427:\nTuesday – Thursday: 8AM-8PM\nFriday & Saturday: 8AM-9PM\nSunday: 8AM to 8PM \nThe Gardens & Gift Shop – 830.896.0430:\nTuesday – Sunday: 9 am to 5 pm
URL:https://shopsattheridge.com/event/closed-on-mondays/2026-08-31/
LOCATION:Cafe at the Ridge\, 13439 S. Ranch Road 783\, Kerrville\, TX\, 78028\, United States
ATTACH;FMTTYPE=image/jpeg:https://shopsattheridge.com/wp-content/uploads/2024/12/Closed-every-Monday-The-Ridge-Marketplace.jpg
END:VEVENT
BEGIN:VEVENT
DTSTART;VALUE=DATE:20260907
DTEND;VALUE=DATE:20260908
DTSTAMP:20260421T111042
CREATED:20241217T153058Z
LAST-MODIFIED:20250318T134321Z
UID:10000428-1788739200-1788825599@shopsattheridge.com
SUMMARY:Closed on Mondays!
DESCRIPTION:We are closed on Mondays! Be sure to come visit us tomorrow! Our regular business hours at The Ridge Marketplace are: \n\n\n\nCLOSED MONDAYS \n\n\n\n\n\n\nCafé – 830.896.0420:\nTuesday – Thursday: 11AM-8PM\nFriday & Saturday: 8AM-9PM\nSunday: 8AM-8PM \nBakery – 830.896.0427:\nTuesday – Thursday: 8AM-8PM\nFriday & Saturday: 8AM-9PM\nSunday: 8AM to 8PM \nThe Gardens & Gift Shop – 830.896.0430:\nTuesday – Sunday: 9 am to 5 pm
URL:https://shopsattheridge.com/event/closed-on-mondays/2026-09-07/
LOCATION:Cafe at the Ridge\, 13439 S. Ranch Road 783\, Kerrville\, TX\, 78028\, United States
ATTACH;FMTTYPE=image/jpeg:https://shopsattheridge.com/wp-content/uploads/2024/12/Closed-every-Monday-The-Ridge-Marketplace.jpg
END:VEVENT
BEGIN:VEVENT
DTSTART;VALUE=DATE:20260914
DTEND;VALUE=DATE:20260915
DTSTAMP:20260421T111042
CREATED:20241217T153058Z
LAST-MODIFIED:20250318T134321Z
UID:10000429-1789344000-1789430399@shopsattheridge.com
SUMMARY:Closed on Mondays!
DESCRIPTION:We are closed on Mondays! Be sure to come visit us tomorrow! Our regular business hours at The Ridge Marketplace are: \n\n\n\nCLOSED MONDAYS \n\n\n\n\n\n\nCafé – 830.896.0420:\nTuesday – Thursday: 11AM-8PM\nFriday & Saturday: 8AM-9PM\nSunday: 8AM-8PM \nBakery – 830.896.0427:\nTuesday – Thursday: 8AM-8PM\nFriday & Saturday: 8AM-9PM\nSunday: 8AM to 8PM \nThe Gardens & Gift Shop – 830.896.0430:\nTuesday – Sunday: 9 am to 5 pm
URL:https://shopsattheridge.com/event/closed-on-mondays/2026-09-14/
LOCATION:Cafe at the Ridge\, 13439 S. Ranch Road 783\, Kerrville\, TX\, 78028\, United States
ATTACH;FMTTYPE=image/jpeg:https://shopsattheridge.com/wp-content/uploads/2024/12/Closed-every-Monday-The-Ridge-Marketplace.jpg
END:VEVENT
BEGIN:VEVENT
DTSTART;VALUE=DATE:20260921
DTEND;VALUE=DATE:20260922
DTSTAMP:20260421T111042
CREATED:20241217T153058Z
LAST-MODIFIED:20250318T134321Z
UID:10000430-1789948800-1790035199@shopsattheridge.com
SUMMARY:Closed on Mondays!
DESCRIPTION:We are closed on Mondays! Be sure to come visit us tomorrow! Our regular business hours at The Ridge Marketplace are: \n\n\n\nCLOSED MONDAYS \n\n\n\n\n\n\nCafé – 830.896.0420:\nTuesday – Thursday: 11AM-8PM\nFriday & Saturday: 8AM-9PM\nSunday: 8AM-8PM \nBakery – 830.896.0427:\nTuesday – Thursday: 8AM-8PM\nFriday & Saturday: 8AM-9PM\nSunday: 8AM to 8PM \nThe Gardens & Gift Shop – 830.896.0430:\nTuesday – Sunday: 9 am to 5 pm
URL:https://shopsattheridge.com/event/closed-on-mondays/2026-09-21/
LOCATION:Cafe at the Ridge\, 13439 S. Ranch Road 783\, Kerrville\, TX\, 78028\, United States
ATTACH;FMTTYPE=image/jpeg:https://shopsattheridge.com/wp-content/uploads/2024/12/Closed-every-Monday-The-Ridge-Marketplace.jpg
END:VEVENT
BEGIN:VEVENT
DTSTART;VALUE=DATE:20260928
DTEND;VALUE=DATE:20260929
DTSTAMP:20260421T111042
CREATED:20241217T153058Z
LAST-MODIFIED:20250318T134321Z
UID:10000431-1790553600-1790639999@shopsattheridge.com
SUMMARY:Closed on Mondays!
DESCRIPTION:We are closed on Mondays! Be sure to come visit us tomorrow! Our regular business hours at The Ridge Marketplace are: \n\n\n\nCLOSED MONDAYS \n\n\n\n\n\n\nCafé – 830.896.0420:\nTuesday – Thursday: 11AM-8PM\nFriday & Saturday: 8AM-9PM\nSunday: 8AM-8PM \nBakery – 830.896.0427:\nTuesday – Thursday: 8AM-8PM\nFriday & Saturday: 8AM-9PM\nSunday: 8AM to 8PM \nThe Gardens & Gift Shop – 830.896.0430:\nTuesday – Sunday: 9 am to 5 pm
URL:https://shopsattheridge.com/event/closed-on-mondays/2026-09-28/
LOCATION:Cafe at the Ridge\, 13439 S. Ranch Road 783\, Kerrville\, TX\, 78028\, United States
ATTACH;FMTTYPE=image/jpeg:https://shopsattheridge.com/wp-content/uploads/2024/12/Closed-every-Monday-The-Ridge-Marketplace.jpg
END:VEVENT
BEGIN:VEVENT
DTSTART;VALUE=DATE:20261005
DTEND;VALUE=DATE:20261006
DTSTAMP:20260421T111042
CREATED:20241217T153058Z
LAST-MODIFIED:20250318T134321Z
UID:10000432-1791158400-1791244799@shopsattheridge.com
SUMMARY:Closed on Mondays!
DESCRIPTION:We are closed on Mondays! Be sure to come visit us tomorrow! Our regular business hours at The Ridge Marketplace are: \n\n\n\nCLOSED MONDAYS \n\n\n\n\n\n\nCafé – 830.896.0420:\nTuesday – Thursday: 11AM-8PM\nFriday & Saturday: 8AM-9PM\nSunday: 8AM-8PM \nBakery – 830.896.0427:\nTuesday – Thursday: 8AM-8PM\nFriday & Saturday: 8AM-9PM\nSunday: 8AM to 8PM \nThe Gardens & Gift Shop – 830.896.0430:\nTuesday – Sunday: 9 am to 5 pm
URL:https://shopsattheridge.com/event/closed-on-mondays/2026-10-05/
LOCATION:Cafe at the Ridge\, 13439 S. Ranch Road 783\, Kerrville\, TX\, 78028\, United States
ATTACH;FMTTYPE=image/jpeg:https://shopsattheridge.com/wp-content/uploads/2024/12/Closed-every-Monday-The-Ridge-Marketplace.jpg
END:VEVENT
BEGIN:VEVENT
DTSTART;VALUE=DATE:20261012
DTEND;VALUE=DATE:20261013
DTSTAMP:20260421T111042
CREATED:20241217T153058Z
LAST-MODIFIED:20250318T134321Z
UID:10000433-1791763200-1791849599@shopsattheridge.com
SUMMARY:Closed on Mondays!
DESCRIPTION:We are closed on Mondays! Be sure to come visit us tomorrow! Our regular business hours at The Ridge Marketplace are: \n\n\n\nCLOSED MONDAYS \n\n\n\n\n\n\nCafé – 830.896.0420:\nTuesday – Thursday: 11AM-8PM\nFriday & Saturday: 8AM-9PM\nSunday: 8AM-8PM \nBakery – 830.896.0427:\nTuesday – Thursday: 8AM-8PM\nFriday & Saturday: 8AM-9PM\nSunday: 8AM to 8PM \nThe Gardens & Gift Shop – 830.896.0430:\nTuesday – Sunday: 9 am to 5 pm
URL:https://shopsattheridge.com/event/closed-on-mondays/2026-10-12/
LOCATION:Cafe at the Ridge\, 13439 S. Ranch Road 783\, Kerrville\, TX\, 78028\, United States
ATTACH;FMTTYPE=image/jpeg:https://shopsattheridge.com/wp-content/uploads/2024/12/Closed-every-Monday-The-Ridge-Marketplace.jpg
END:VEVENT
BEGIN:VEVENT
DTSTART;VALUE=DATE:20261019
DTEND;VALUE=DATE:20261020
DTSTAMP:20260421T111042
CREATED:20241217T153058Z
LAST-MODIFIED:20250318T134321Z
UID:10000434-1792368000-1792454399@shopsattheridge.com
SUMMARY:Closed on Mondays!
DESCRIPTION:We are closed on Mondays! Be sure to come visit us tomorrow! Our regular business hours at The Ridge Marketplace are: \n\n\n\nCLOSED MONDAYS \n\n\n\n\n\n\nCafé – 830.896.0420:\nTuesday – Thursday: 11AM-8PM\nFriday & Saturday: 8AM-9PM\nSunday: 8AM-8PM \nBakery – 830.896.0427:\nTuesday – Thursday: 8AM-8PM\nFriday & Saturday: 8AM-9PM\nSunday: 8AM to 8PM \nThe Gardens & Gift Shop – 830.896.0430:\nTuesday – Sunday: 9 am to 5 pm
URL:https://shopsattheridge.com/event/closed-on-mondays/2026-10-19/
LOCATION:Cafe at the Ridge\, 13439 S. Ranch Road 783\, Kerrville\, TX\, 78028\, United States
ATTACH;FMTTYPE=image/jpeg:https://shopsattheridge.com/wp-content/uploads/2024/12/Closed-every-Monday-The-Ridge-Marketplace.jpg
END:VEVENT
BEGIN:VEVENT
DTSTART;VALUE=DATE:20261026
DTEND;VALUE=DATE:20261027
DTSTAMP:20260421T111042
CREATED:20241217T153058Z
LAST-MODIFIED:20250318T134321Z
UID:10000435-1792972800-1793059199@shopsattheridge.com
SUMMARY:Closed on Mondays!
DESCRIPTION:We are closed on Mondays! Be sure to come visit us tomorrow! Our regular business hours at The Ridge Marketplace are: \n\n\n\nCLOSED MONDAYS \n\n\n\n\n\n\nCafé – 830.896.0420:\nTuesday – Thursday: 11AM-8PM\nFriday & Saturday: 8AM-9PM\nSunday: 8AM-8PM \nBakery – 830.896.0427:\nTuesday – Thursday: 8AM-8PM\nFriday & Saturday: 8AM-9PM\nSunday: 8AM to 8PM \nThe Gardens & Gift Shop – 830.896.0430:\nTuesday – Sunday: 9 am to 5 pm
URL:https://shopsattheridge.com/event/closed-on-mondays/2026-10-26/
LOCATION:Cafe at the Ridge\, 13439 S. Ranch Road 783\, Kerrville\, TX\, 78028\, United States
ATTACH;FMTTYPE=image/jpeg:https://shopsattheridge.com/wp-content/uploads/2024/12/Closed-every-Monday-The-Ridge-Marketplace.jpg
END:VEVENT
BEGIN:VEVENT
DTSTART;VALUE=DATE:20261102
DTEND;VALUE=DATE:20261103
DTSTAMP:20260421T111042
CREATED:20241217T153058Z
LAST-MODIFIED:20250318T134321Z
UID:10000436-1793577600-1793663999@shopsattheridge.com
SUMMARY:Closed on Mondays!
DESCRIPTION:We are closed on Mondays! Be sure to come visit us tomorrow! Our regular business hours at The Ridge Marketplace are: \n\n\n\nCLOSED MONDAYS \n\n\n\n\n\n\nCafé – 830.896.0420:\nTuesday – Thursday: 11AM-8PM\nFriday & Saturday: 8AM-9PM\nSunday: 8AM-8PM \nBakery – 830.896.0427:\nTuesday – Thursday: 8AM-8PM\nFriday & Saturday: 8AM-9PM\nSunday: 8AM to 8PM \nThe Gardens & Gift Shop – 830.896.0430:\nTuesday – Sunday: 9 am to 5 pm
URL:https://shopsattheridge.com/event/closed-on-mondays/2026-11-02/
LOCATION:Cafe at the Ridge\, 13439 S. Ranch Road 783\, Kerrville\, TX\, 78028\, United States
ATTACH;FMTTYPE=image/jpeg:https://shopsattheridge.com/wp-content/uploads/2024/12/Closed-every-Monday-The-Ridge-Marketplace.jpg
END:VEVENT
BEGIN:VEVENT
DTSTART;VALUE=DATE:20261109
DTEND;VALUE=DATE:20261110
DTSTAMP:20260421T111042
CREATED:20241217T153058Z
LAST-MODIFIED:20250318T134321Z
UID:10000437-1794182400-1794268799@shopsattheridge.com
SUMMARY:Closed on Mondays!
DESCRIPTION:We are closed on Mondays! Be sure to come visit us tomorrow! Our regular business hours at The Ridge Marketplace are: \n\n\n\nCLOSED MONDAYS \n\n\n\n\n\n\nCafé – 830.896.0420:\nTuesday – Thursday: 11AM-8PM\nFriday & Saturday: 8AM-9PM\nSunday: 8AM-8PM \nBakery – 830.896.0427:\nTuesday – Thursday: 8AM-8PM\nFriday & Saturday: 8AM-9PM\nSunday: 8AM to 8PM \nThe Gardens & Gift Shop – 830.896.0430:\nTuesday – Sunday: 9 am to 5 pm
URL:https://shopsattheridge.com/event/closed-on-mondays/2026-11-09/
LOCATION:Cafe at the Ridge\, 13439 S. Ranch Road 783\, Kerrville\, TX\, 78028\, United States
ATTACH;FMTTYPE=image/jpeg:https://shopsattheridge.com/wp-content/uploads/2024/12/Closed-every-Monday-The-Ridge-Marketplace.jpg
END:VEVENT
BEGIN:VEVENT
DTSTART;VALUE=DATE:20261116
DTEND;VALUE=DATE:20261117
DTSTAMP:20260421T111042
CREATED:20241217T153058Z
LAST-MODIFIED:20250318T134321Z
UID:10000438-1794787200-1794873599@shopsattheridge.com
SUMMARY:Closed on Mondays!
DESCRIPTION:We are closed on Mondays! Be sure to come visit us tomorrow! Our regular business hours at The Ridge Marketplace are: \n\n\n\nCLOSED MONDAYS \n\n\n\n\n\n\nCafé – 830.896.0420:\nTuesday – Thursday: 11AM-8PM\nFriday & Saturday: 8AM-9PM\nSunday: 8AM-8PM \nBakery – 830.896.0427:\nTuesday – Thursday: 8AM-8PM\nFriday & Saturday: 8AM-9PM\nSunday: 8AM to 8PM \nThe Gardens & Gift Shop – 830.896.0430:\nTuesday – Sunday: 9 am to 5 pm
URL:https://shopsattheridge.com/event/closed-on-mondays/2026-11-16/
LOCATION:Cafe at the Ridge\, 13439 S. Ranch Road 783\, Kerrville\, TX\, 78028\, United States
ATTACH;FMTTYPE=image/jpeg:https://shopsattheridge.com/wp-content/uploads/2024/12/Closed-every-Monday-The-Ridge-Marketplace.jpg
END:VEVENT
END:VCALENDAR